BEGIN:VCALENDAR
VERSION:2.0
PRODID:-//Tukios.com/
BEGIN:VEVENT
UID:539cbe18-d863-4be5-936f-64317a271808@www.simpletraditionsbyjohnson.com
DTSTAMP:20260421T230631Z
DTSTART:20260425T160000Z
DTEND:20260425T170000Z
SUMMARY:Graveside Service
DESCRIPTION:
URL:https://www.simpletraditionsbyjohnson.com/obituaries/peter-olivier
LOCATION:Dry Creek Cemetery 9600 West Hill Road  Boise ID 83714
GEO:43.692351;-116.3047522
END:VEVENT
END:VCALENDAR